BEGIN:VCALENDAR
VERSION:2.0
PRODID:-//Terese Bowors - ECPv6.2.0.1//NONSGML v1.0//EN
CALSCALE:GREGORIAN
METHOD:PUBLISH
X-WR-CALNAME:Terese Bowors
X-ORIGINAL-URL:https://terese.ca
X-WR-CALDESC:Events for Terese Bowors
REFRESH-INTERVAL;VALUE=DURATION:PT1H
X-Robots-Tag:noindex
X-PUBLISHED-TTL:PT1H
BEGIN:VTIMEZONE
TZID:America/Vancouver
BEGIN:DAYLIGHT
TZOFFSETFROM:-0800
TZOFFSETTO:-0700
TZNAME:PDT
DTSTART:20260308T100000
END:DAYLIGHT
BEGIN:STANDARD
TZOFFSETFROM:-0700
TZOFFSETTO:-0800
TZNAME:PST
DTSTART:20261101T090000
END:STANDARD
END:VTIMEZONE
BEGIN:VEVENT
DTSTART;TZID=America/Vancouver:20260419T090000
DTEND;TZID=America/Vancouver:20260419T100000
DTSTAMP:20260421T015545
CREATED:20260323T000011Z
LAST-MODIFIED:20260417T220619Z
UID:3571-1776589200-1776592800@terese.ca
SUMMARY:Sacred Cannabis Ceremony - Virtual
DESCRIPTION: A Guided Experience in Relationship\, Presence\, and Intention\n\nat Cannabis Public School \nThis guided Cannabis ceremony invites participants to experience the plant through intention\, presence\, and sacred relationship. Together we’ll explore how ceremony can transform our connection with Cannabis from habit into a mindful\, reverent practice rooted in listening and awareness. \nParticipants will: \n\nExplore Cannabis as a plant ally through the lens of ceremony and intentional relationship\nLearn simple\, accessible ways to bring presence and mindfulness into Cannabis relationship\nExperience how ceremony can support nervous system alignment\, clarity\, and inner listening\n\nTerese Bowors is a Cannabis educator\, ceremony guide\, and Oracle with over 15 years of experience working with Cannabis as a sacred plant ally. She is known for creating grounded\, intentional spaces that invite presence\, clarity\, and respectful relationship with the plant.
URL:https://terese.ca/event/sacred-cannabis-ceremony-virtual/
LOCATION:Zoom
ATTACH;FMTTYPE=image/png:https://terese.ca/wp-content/uploads/2026/03/sacred-ceremony.png
END:VEVENT
BEGIN:VEVENT
DTSTART;TZID=America/Vancouver:20260419T110000
DTEND;TZID=America/Vancouver:20260419T200000
DTSTAMP:20260421T015545
CREATED:20260322T235538Z
LAST-MODIFIED:20260414T011112Z
UID:3567-1776596400-1776628800@terese.ca
SUMMARY:Nelson Psychedelic Fair
DESCRIPTION:Nelson Psychedelic Fair on April 19\, 2026\, at the Eagles Hall in Nelson from 11am-8pm. This event will feature local expert speakers on a variety of topics exploring psychedelic medicine from an introductory to a psychonaut level. A vendor market featuring local medicine makers\, therapists\, artists and other allied creators will be open between speakers and in the evening we will transition into an informal social with live DJs and light refreshments. \nTerese will be holding a Cannabis Ceremony from 4:00–5:00 pm outside – dress in layers\, bring blankets and cushion to sit on. \nContact getlitwinlaw@gmail.com with any questions or for further information.
URL:https://terese.ca/event/nelson-psychedelic-fair/
LOCATION:Eagles Hall\, Nelson\, 641 Baker St.\, Nelson\, BC\, Canada
CATEGORIES:Markets and Vending
ATTACH;FMTTYPE=image/png:https://terese.ca/wp-content/uploads/2026/03/Apr-19-psychedelic-fair.png
END:VEVENT
END:VCALENDAR