BEGIN:VCALENDAR
VERSION:2.0
PRODID:-//Terese Bowors - ECPv6.2.0.1//NONSGML v1.0//EN
CALSCALE:GREGORIAN
METHOD:PUBLISH
X-WR-CALNAME:Terese Bowors
X-ORIGINAL-URL:https://terese.ca
X-WR-CALDESC:Events for Terese Bowors
REFRESH-INTERVAL;VALUE=DURATION:PT1H
X-Robots-Tag:noindex
X-PUBLISHED-TTL:PT1H
BEGIN:VTIMEZONE
TZID:America/Vancouver
BEGIN:DAYLIGHT
TZOFFSETFROM:-0800
TZOFFSETTO:-0700
TZNAME:PDT
DTSTART:20250309T100000
END:DAYLIGHT
BEGIN:STANDARD
TZOFFSETFROM:-0700
TZOFFSETTO:-0800
TZNAME:PST
DTSTART:20251102T090000
END:STANDARD
END:VTIMEZONE
BEGIN:VEVENT
DTSTART;TZID=America/Vancouver:20250614T180000
DTEND;TZID=America/Vancouver:20250614T210000
DTSTAMP:20260421T193058
CREATED:20250416T191504Z
LAST-MODIFIED:20250610T200147Z
UID:3037-1749924000-1749934800@terese.ca
SUMMARY:Sacred Cannabis Ceremony & Sound Journey
DESCRIPTION:~CEREMONY CANCELLED~ \nJoin us for a sacred evening of sound\, presence\, and intentional Cannabis connection. Guided by Cannabis Oracle\, Terese Bowors and accompanied by the healing frequencies of multidimensional artist\, sound facilitator\, and DJ\,  Kristal Jem\, this immersive ceremony invites you to deepen your relationship with the plant and yourself. \nThis gathering is open to individuals over 19 years of age who wish to embark on a sacred journey guided by the wisdom of Cannabis. To partake in our Cannabis-infused journey\, it is essential that you have a prior relationship with the herb. \nEach participant will be invited to a brief intake phone call with Terese to review deeper guidelines\, attune to the energy of the space\, and ensure readiness. \nPlease arrive:– Well nourished– Hydrated– Rested \nKind request:Refrain from wearing fragrances or scented products\, including clothing washed in traditional scented laundry products. Pure essential oils and sacred smudges may be part of the ceremony. \nLimited space – pre-registration is required. \nYoga mats\, cushions\, and blankets will be available for your comfort. Chairs are also provided for those who prefer upright seating. \nLight refreshments will be served following the ceremony.
URL:https://terese.ca/event/sacred-cannabis-ceremony-sound-journey/
LOCATION:Kelowna\, BC\, Kelowna\, BC\, Canada
CATEGORIES:Cannabis Ceremony
ATTACH;FMTTYPE=image/png:https://terese.ca/wp-content/uploads/2025/04/Cannabis-and-Sound-Kelowna-Jun-14-banner.png
END:VEVENT
END:VCALENDAR