BEGIN:VCALENDAR
VERSION:2.0
PRODID:-//Terese Bowors - ECPv6.2.0.1//NONSGML v1.0//EN
CALSCALE:GREGORIAN
METHOD:PUBLISH
X-WR-CALNAME:Terese Bowors
X-ORIGINAL-URL:https://terese.ca
X-WR-CALDESC:Events for Terese Bowors
REFRESH-INTERVAL;VALUE=DURATION:PT1H
X-Robots-Tag:noindex
X-PUBLISHED-TTL:PT1H
BEGIN:VTIMEZONE
TZID:America/Vancouver
BEGIN:DAYLIGHT
TZOFFSETFROM:-0800
TZOFFSETTO:-0700
TZNAME:PDT
DTSTART:20250309T100000
END:DAYLIGHT
BEGIN:STANDARD
TZOFFSETFROM:-0700
TZOFFSETTO:-0800
TZNAME:PST
DTSTART:20251102T090000
END:STANDARD
END:VTIMEZONE
BEGIN:VEVENT
DTSTART;TZID=America/Vancouver:20251220T180000
DTEND;TZID=America/Vancouver:20251220T210000
DTSTAMP:20260422T153846
CREATED:20240117T195044Z
LAST-MODIFIED:20251219T194300Z
UID:2743-1766253600-1766264400@terese.ca
SUMMARY:Sacred Cannabis Ceremony
DESCRIPTION:Solstice Cannabis Ceremony \nA guided\, intentional experience designed to deepen your connection with Cannabis as a sacred ally. Through mindful consumption\, breath\, and presence\, participants explore heightened awareness\, nervous system regulation\, and personal transformation. This is not about escape—it’s about checking in\, accessing deep stillness\, and receiving insights. \nRooted in reverence\, the ceremony fosters alignment\, clarity\, and connection to self and the unseen. Whether seeking healing\, expansion\, or a new relationship with Cannabis\, this space invites you to engage with the plant consciously\, ceremonially\, and with deep intention \nSolstice Cannabis Ceremony​Saturday\, Dec 20 · 6–9 pm​Ruby Rose Temple\, Nelson\, BC  \nAll Genders Welcome \n$45 etransfer to info@terese.ca \nReserve your Spot HERE \nWhat to ExpectGuided meditation\, somatic invitations\, breathing\, and Oracle messages guide the journey. Participants are supported to explore stillness\, clarity\, and alignment individually and as a collective.Every ceremony is held with integrity\, consent\, and care\, co-created with the energy of the group and Land.
URL:https://terese.ca/event/sacred-cannabis-ceremony/
LOCATION:Ruby Rose Temple\, 711 Radio Ave #5\, Nelson\, BC\, V1L 3L2\, Canada
CATEGORIES:Cannabis Ceremony
ATTACH;FMTTYPE=image/webp:https://terese.ca/wp-content/uploads/2024/01/Cannabis-ceremony-logo.webp
END:VEVENT
END:VCALENDAR